BEGIN:VCALENDAR
VERSION:2.0
PRODID:-//Mix It Up Kitchen - ECPv6.15.20//NONSGML v1.0//EN
CALSCALE:GREGORIAN
METHOD:PUBLISH
X-WR-CALNAME:Mix It Up Kitchen
X-ORIGINAL-URL:https://mixitupkitchen.com
X-WR-CALDESC:Events for Mix It Up Kitchen
REFRESH-INTERVAL;VALUE=DURATION:PT1H
X-Robots-Tag:noindex
X-PUBLISHED-TTL:PT1H
BEGIN:VTIMEZONE
TZID:America/New_York
BEGIN:DAYLIGHT
TZOFFSETFROM:-0500
TZOFFSETTO:-0400
TZNAME:EDT
DTSTART:20240310T070000
END:DAYLIGHT
BEGIN:STANDARD
TZOFFSETFROM:-0400
TZOFFSETTO:-0500
TZNAME:EST
DTSTART:20241103T060000
END:STANDARD
BEGIN:DAYLIGHT
TZOFFSETFROM:-0500
TZOFFSETTO:-0400
TZNAME:EDT
DTSTART:20250309T070000
END:DAYLIGHT
BEGIN:STANDARD
TZOFFSETFROM:-0400
TZOFFSETTO:-0500
TZNAME:EST
DTSTART:20251102T060000
END:STANDARD
BEGIN:DAYLIGHT
TZOFFSETFROM:-0500
TZOFFSETTO:-0400
TZNAME:EDT
DTSTART:20260308T070000
END:DAYLIGHT
BEGIN:STANDARD
TZOFFSETFROM:-0400
TZOFFSETTO:-0500
TZNAME:EST
DTSTART:20261101T060000
END:STANDARD
END:VTIMEZONE
BEGIN:VEVENT
DTSTART;TZID=America/New_York:20250201T180000
DTEND;TZID=America/New_York:20250201T200000
DTSTAMP:20260422T092526
CREATED:20241202T152927Z
LAST-MODIFIED:20250130T163635Z
UID:10003729-1738432800-1738440000@mixitupkitchen.com
SUMMARY:Cooking with Superfoods | Adult Workshop
DESCRIPTION:Work alongside our chef and other fellow attendees to create some memorable dishes at our kitchen. Guests will enjoy a seated dinner after the cooking portion of the workshop with recipes to take home. Please note: this workshop is a combination of hands-on and chef demonstration. Class size limited. BYO welcome. \n\n  \nMenu \nKale salad with quinoa\, sweet potato\, feta and cranberries tossed in a cider vinaigrette     \nPan seared salmon with a pomegranate reduction with cauliflower purée and roasted Brussels  \nDark chocolate dessert (chef-prepared) \n  \nDate: Saturday\, February 1st  \n\nTime: 6:00-8:00 PM \nCost: $115 pp (prices are all-inclusive- no tax or gratuity additional) \n\n\n  \nIf this class is full please contact us at info@mixitupkitchen.com to be put on a waitlist. \n\n\n\n\n\nThings to know:\n\n\nPlease inform us of any food allergies or dietary restrictions prior to registering.\nClasses are non-refundable. If you cannot attend your scheduled class\, we can provide a credit towards a future class if you notify us at least 7 days prior to your registered class. Credit are valid for 6 months. Due to the intimate size of our classes\, we are unable to provide a credit for cancellations made within 7 days of the event for any reason.  You are always welcome to send someone in your place- just let us know in advance. Unfortunately we are unable to make exceptions to our policy.\nIf we need to cancel a due to low enrollment or unforeseen circumstances\, we will provide a full refund. In the event that happens\, you’ll be notified at least 24 hours prior to class time.\n\nOur kitchen will open 10 minutes prior to class (kindly no arrival before then\, so we can welcome you with our full attention).\n\n\nMenu items may change slightly due to freshness and availability.\n\nOur kitchen is BYO- you are welcome to bring beer or wine to enjoy.\nWe look forward to seeing you!\nIf this class is full please contact us at info@mixitupkitchen.com to be put on a waitlist.
URL:https://mixitupkitchen.com/event/cooking-with-super-foods-adult-workshop/
CATEGORIES:Adult Workshops
ATTACH;FMTTYPE=image/jpeg:https://mixitupkitchen.com/wp-content/uploads/2023/01/salmon22-scaled.jpeg
END:VEVENT
BEGIN:VEVENT
DTSTART;TZID=America/New_York:20250202T100000
DTEND;TZID=America/New_York:20250202T111500
DTSTAMP:20260422T092526
CREATED:20250127T164350Z
LAST-MODIFIED:20250127T164833Z
UID:10003768-1738490400-1738494900@mixitupkitchen.com
SUMMARY:Valentine Sprinkle Donuts  & Hot Chocolate | Parent & Child | Ages 5+
DESCRIPTION:Nothing is sweeter than baking with a loved one! Join us for our Valentine’s themed sprinkle donut workshop. We’ll work in pairs to mix up a scrumptious batter for strawberry (or vanilla) glazed donuts with festive sprinkles. This class is every bit about learning essential baking skills as it is to enjoy and indulge a little!  Bakery boxes will be decorated in class. Parent and child will bring home half a dozen delicious donuts to share.  Class size limited. \n\nParents are welcome to bring tea or coffee to enjoy. Children will receive a mini hot chocolate. \n\n  \nDate: Sunday\, February 2nd \nTime: 10:00-11:15 AM \nCost: $60 (Includes Parent AND Child) Add an additional family member working on the same recipe for $10. \nAdditional child will receive a recipe to color and bakery box to decorate. Due to limited space at the kitchen\, we must charge for additional family members. \n\n\n\n\nIf you are registering with the Newcomers Club- please go to the private link provided by them.    \n\n\n\n\n\n\n\n\nThings to Know: \nIf you have trouble registering or resetting a password\, please contact us at info@mixitupkitchen.com or at 617-794-5191.  \nFOOD ALLERGIES:Please contact us prior to registering if you have a food allergy. We do not use peanuts or tree nuts unless specifically noted in the class description\, however some ingredients may be processed in a facility with peanuts and tree nuts. Please let us know before you register and we are happy to review ingredient labels ahead of time. \nCLASS CANCELLATION POLICY: Due to limited enrollment\, classes are non-refundable. If you need to cancel your class for any reason\, we can provide you with a credit for a future class with at least 7 days notice from the date of the class. Class credits expire 6 months from the date of the scheduled class. Within the 7 days\, we can only provide a credit if we can fill your spot or you are always welcome to send someone in your child’s place. If we need to cancel a class due to low enrollment\, we will provide you with a full refund.  \nWAITLIST: If the class you’re looking for is full\, please email us at info@mixitupkitchen.com to be on a cancellation list.
URL:https://mixitupkitchen.com/event/valentine-sprinkle-donuts-hot-chocolate-parent-child-ages-5-2/
CATEGORIES:Camp Day,Kids & Teens,Special Event,Summer Camps,Vacation & No School Days
ATTACH;FMTTYPE=image/jpeg:https://mixitupkitchen.com/wp-content/uploads/2020/01/Valentine-Baked-Vanilla-Donuts-6-683x1024-1-e1578340335824.jpg
END:VEVENT
END:VCALENDAR