BEGIN:VCALENDAR
VERSION:2.0
PRODID:-//Mix It Up Kitchen - ECPv6.15.20//NONSGML v1.0//EN
CALSCALE:GREGORIAN
METHOD:PUBLISH
X-WR-CALNAME:Mix It Up Kitchen
X-ORIGINAL-URL:https://mixitupkitchen.com
X-WR-CALDESC:Events for Mix It Up Kitchen
REFRESH-INTERVAL;VALUE=DURATION:PT1H
X-Robots-Tag:noindex
X-PUBLISHED-TTL:PT1H
BEGIN:VTIMEZONE
TZID:America/New_York
BEGIN:DAYLIGHT
TZOFFSETFROM:-0500
TZOFFSETTO:-0400
TZNAME:EDT
DTSTART:20160313T070000
END:DAYLIGHT
BEGIN:STANDARD
TZOFFSETFROM:-0400
TZOFFSETTO:-0500
TZNAME:EST
DTSTART:20161106T060000
END:STANDARD
BEGIN:DAYLIGHT
TZOFFSETFROM:-0500
TZOFFSETTO:-0400
TZNAME:EDT
DTSTART:20170312T070000
END:DAYLIGHT
BEGIN:STANDARD
TZOFFSETFROM:-0400
TZOFFSETTO:-0500
TZNAME:EST
DTSTART:20171105T060000
END:STANDARD
BEGIN:DAYLIGHT
TZOFFSETFROM:-0500
TZOFFSETTO:-0400
TZNAME:EDT
DTSTART:20180311T070000
END:DAYLIGHT
BEGIN:STANDARD
TZOFFSETFROM:-0400
TZOFFSETTO:-0500
TZNAME:EST
DTSTART:20181104T060000
END:STANDARD
END:VTIMEZONE
BEGIN:VEVENT
DTSTART;TZID=America/New_York:20171204T160000
DTEND;TZID=America/New_York:20171204T173000
DTSTAMP:20260421T123027
CREATED:20171113T214404Z
LAST-MODIFIED:20171113T214404Z
UID:10001911-1512403200-1512408600@mixitupkitchen.com
SUMMARY:Kids Holiday Baking & Edible Gifts | Ages 8-13
DESCRIPTION:Learn to make delicious holiday treats- just in the Nick of time!  In this holiday baking class\, we’ll make festive treats that are perfect for gift giving or to keep for yourself! \nDate: Mondays:  December 4th\, 11th & 18th \nTime: 4:00-5:30 PM \nCost: $120 for a 3 week series \nPlease inform us of any food allergies prior to registering.   This class may not be appropriate for people with certain food allergies. \nThings to know: \nOur children classes are nut-free.  Menu items may change due to availability and student dietary restrictions. We reserve the right to cancel a class due to low enrollment and a full refund will be provided.  If you need to cancel\, we can only provide refunds within 10 days of class start. Please review our cancellation policy on our FAQ page (under the About Us tab).
URL:https://mixitupkitchen.com/event/kids-holiday-baking-edible-gifts-2/
LOCATION:19 Depot Street\, Duxbury\, 02332\, United States
CATEGORIES:Kids & Teens
END:VEVENT
BEGIN:VEVENT
DTSTART;TZID=America/New_York:20171207T190000
DTEND;TZID=America/New_York:20171207T210000
DTSTAMP:20260421T123027
CREATED:20171116T111415Z
LAST-MODIFIED:20171116T111415Z
UID:10002152-1512673200-1512680400@mixitupkitchen.com
SUMMARY:Girls Night Out | Holiday Appetizers | Adult Workshop
DESCRIPTION:Chef Sarah will show you how to add style to your spread with a variety of appetizers that are delicious yet simple to prepare (and many that can be made ahead).  We’ll arm you with a new repertoire of hors d’oeuvres to jazz up your next gathering!  Snug Harbor Wine will be “sampling” a collection of holiday favorites and a Sparkler or two!’  This festive holiday event will be demonstration only with lots of samples and recipes to bring home!  BYOB!   \n \nDate: Thursday\, December 7th \n\nTime: 7:00-9:00 PM \nCost: $65 \nThings to know: \n\nPlease inform us of any food allergies prior to registering.  Menu items may change due to availability.  We reserve the right to cancel a class due to low enrollment and a full refund will be provided.  Unfortunately\, we cannot provide refunds within 10 days of class start. Please review our cancellation policy on our FAQ page (under the About Us tab).
URL:https://mixitupkitchen.com/event/girls-night-holiday-appetizers-adult-workshop/
LOCATION:19 Depot Street\, Duxbury\, 02332\, United States
CATEGORIES:Adult Workshops,Special Event
END:VEVENT
BEGIN:VEVENT
DTSTART;TZID=America/New_York:20171209T100000
DTEND;TZID=America/New_York:20171209T110000
DTSTAMP:20260421T123027
CREATED:20171129T114447Z
LAST-MODIFIED:20171129T114447Z
UID:10002172-1512813600-1512817200@mixitupkitchen.com
SUMMARY:Gingerbread Houses | Parent & Child | Ages 5+
DESCRIPTION:Celebrate the season with family gingerbread fun!  This class is designed for a parent and child to work together to design and decorate their own house.  You’ll enjoy hot chocolate and a treat while we package up your house to bring home.  Please note: Gingerbread Houses are medium sized and perfect for a parent and child pair. \nDate: Saturday\, December 9th \nTime: 10:00-11:00 AM \nCost: $60 \nThings to know: \nOur children classes are nut-free.  Please inform us of any food allergies prior to registering.  Menu items may change due to availability and student dietary restrictions. We reserve the right to cancel a class due to low enrollment and a full refund will be provided.  Unfortunately\, we cannot provide refunds within 10 days of class start. Please review our cancellation policy on our FAQ page (under the About Us tab). \n 
URL:https://mixitupkitchen.com/event/gingerbread-houses-parent-child-ages-5/
CATEGORIES:Family,Kids & Teens,Special Event
END:VEVENT
BEGIN:VEVENT
DTSTART;TZID=America/New_York:20171209T190000
DTEND;TZID=America/New_York:20171209T210000
DTSTAMP:20260421T123027
CREATED:20171116T020736Z
LAST-MODIFIED:20171116T020736Z
UID:10002151-1512846000-1512853200@mixitupkitchen.com
SUMMARY:Couples Gingerbread House Decorating | Adult Workshop
DESCRIPTION:Indulge your sweet tooth at our adult BYOB Gingerbread House Decorating workshop.  You’ll enjoy some bonding time while creating your own nostalgic masterpiece together.  We’ll provide some refreshments and you’re welcome to BYOB!  Each couple will bring home one festively wrapped gingerbread house. Gingerbread houses are hand-crafted\, so please register by Tuesday\, December 5th. \nDate: Saturday\, December 9th \nTime: 7:00-9:00 PM \nCost: $95 per couple \nThings to know: \nPlease inform us of any food allergies prior to registering.  Menu items may change due to availability and student dietary restrictions. Maximum class size is typically 10 children. We reserve the right to cancel a class due to low enrollment and a full refund will be provided.  Unfortunately\, we cannot provide refunds within 10 days of class start. Please review our cancellation policy on our FAQ page (under the About Us tab). \n 
URL:https://mixitupkitchen.com/event/couples-gingerbread-house-decorating-adult-workshop/
LOCATION:19 Depot Street\, Duxbury\, 02332\, United States
CATEGORIES:Adult Workshops,Special Event
END:VEVENT
END:VCALENDAR