BEGIN:VCALENDAR
VERSION:2.0
PRODID:-//Mix It Up Kitchen - ECPv6.15.20//NONSGML v1.0//EN
CALSCALE:GREGORIAN
METHOD:PUBLISH
X-WR-CALNAME:Mix It Up Kitchen
X-ORIGINAL-URL:https://mixitupkitchen.com
X-WR-CALDESC:Events for Mix It Up Kitchen
REFRESH-INTERVAL;VALUE=DURATION:PT1H
X-Robots-Tag:noindex
X-PUBLISHED-TTL:PT1H
BEGIN:VTIMEZONE
TZID:America/New_York
BEGIN:DAYLIGHT
TZOFFSETFROM:-0500
TZOFFSETTO:-0400
TZNAME:EDT
DTSTART:20160313T070000
END:DAYLIGHT
BEGIN:STANDARD
TZOFFSETFROM:-0400
TZOFFSETTO:-0500
TZNAME:EST
DTSTART:20161106T060000
END:STANDARD
BEGIN:DAYLIGHT
TZOFFSETFROM:-0500
TZOFFSETTO:-0400
TZNAME:EDT
DTSTART:20170312T070000
END:DAYLIGHT
BEGIN:STANDARD
TZOFFSETFROM:-0400
TZOFFSETTO:-0500
TZNAME:EST
DTSTART:20171105T060000
END:STANDARD
BEGIN:DAYLIGHT
TZOFFSETFROM:-0500
TZOFFSETTO:-0400
TZNAME:EDT
DTSTART:20180311T070000
END:DAYLIGHT
BEGIN:STANDARD
TZOFFSETFROM:-0400
TZOFFSETTO:-0500
TZNAME:EST
DTSTART:20181104T060000
END:STANDARD
END:VTIMEZONE
BEGIN:VEVENT
DTSTART;TZID=America/New_York:20171121T110000
DTEND;TZID=America/New_York:20171121T130000
DTSTAMP:20260423T063141
CREATED:20170925T183240Z
LAST-MODIFIED:20170925T183240Z
UID:10002114-1511262000-1511269200@mixitupkitchen.com
SUMMARY:Take & Bake Thanksgiving Pies I Adult Workshop
DESCRIPTION:Instead of buying store bought pies this Thanksgiving\, invest in skills to make your own.  Featured in South Shore Living Magazine\, you’ll learn to make Chef Sarah’s Apple Pie with Buttermilk Pastry and a Cranberry Crunch pie.  In this hands on pie workshop you’ll learn professional baking techniques that will last long after the holidays are over.  Imagine your home filled with the aroma of delicious caramelized fruits and fragrant freshly-ground spices! \nYou’ll leave with two pies to be baked at home (can also be frozen). \nApple Pie with optional Pecans and Buttermilk Pastry (Featured in South Shore Living Magazine) \nCranberry Crunch Pie \n\n  \nDate: Tuesday\, November 24th \nTime: 11:00 AM-1:00 PM \nCost: $65 \n\n  \nThings to know: \nWe require a minimum of 6 attendees to run a class.  We reserve the right to cancel a class due to low enrollment and a full refund will be provided.  If you need to cancel\, we can provide a refund if you notify us 10 days prior to the class date (minus a 5% merchant processing fee).  After that time classes are non-refundable\, but you are welcome to send someone in your place (just let us know ahead of time). Please inform us of any food allergies prior to registering. \n 
URL:https://mixitupkitchen.com/event/21170/
CATEGORIES:Adult Workshops
END:VEVENT
BEGIN:VEVENT
DTSTART;TZID=America/New_York:20171122T100000
DTEND;TZID=America/New_York:20171122T110000
DTSTAMP:20260423T063141
CREATED:20171106T011153Z
LAST-MODIFIED:20171106T011153Z
UID:10001902-1511344800-1511348400@mixitupkitchen.com
SUMMARY:Turkey Cupcakes | Parent/Child | Ages 3-7
DESCRIPTION:We’ll provide all of the fixings to decorate the cutest turkey cupcakes.  We’ll start by mixing up a batch of delicious cupcakes together\, and then each parent/child team will decorate their own.  You’ll bring home 2 cupcakes and enjoy a treat in class.  Children will also decorate their own chef hats. \nDate: Wednesday\, November 22nd \nTime: 10:00-11:00 AM \nCost: $30 (bring an additional child for $20. Please contact us directly to register a sibling at info@new.dev.cc). \nThings to know: \nOur children classes are nut-free.  Please inform us of any food allergies prior to registering.  Menu items may change due to availability and student dietary restrictions.  We reserve the right to cancel a class due to low enrollment and a full refund will be provided.  Unfortunately\, we cannot provide refunds within 10 days of class start. Please review our cancellation policy on our FAQ page (under the About Us tab). \n  \n  \n 
URL:https://mixitupkitchen.com/event/turkey-cupcakes-parentchild-ages-3-7-2/
LOCATION:19 Depot Street\, Duxbury\, 02332\, United States
CATEGORIES:Family,Kids & Teens,Special Event
END:VEVENT
BEGIN:VEVENT
DTSTART;TZID=America/New_York:20171122T133000
DTEND;TZID=America/New_York:20171122T150000
DTSTAMP:20260423T063141
CREATED:20171104T120135Z
LAST-MODIFIED:20171104T120135Z
UID:10002145-1511357400-1511362800@mixitupkitchen.com
SUMMARY:Turkey Cupcakes | Ages 6-10
DESCRIPTION:Children will want to Gobble up these adorable cupcakes that we’ll decorate as turkeys!  We’ll learn some important measuring skills as we make cupcakes from scratch\, topped with buttercream frosting. Each child will decorate 2 cupcakes to bring home.  We’ll also enjoy some in class with warm apple cider \nWednesday\, November 22nd \n\n1:30-3:00 PM \nCost: $35 \n\nThings to know: \nOur children classes are nut-free.  Please inform us of any food allergies prior to registering.  Menu items may change due to availability and student dietary restrictions. We reserve the right to cancel a class due to low enrollment and a full refund will be provided.  Unfortunately\, we cannot provide refunds within 10 days of class start. Please review our cancellation policy on our FAQ page (under the About Us tab). \n 
URL:https://mixitupkitchen.com/event/turkey-cupcakes-ages-6-10/
LOCATION:19 Depot Street\, Duxbury\, 02332\, United States
CATEGORIES:Kids & Teens,Special Event
END:VEVENT
END:VCALENDAR