BEGIN:VCALENDAR
VERSION:2.0
PRODID:-//Mix It Up Kitchen - ECPv6.15.20//NONSGML v1.0//EN
CALSCALE:GREGORIAN
METHOD:PUBLISH
X-ORIGINAL-URL:https://mixitupkitchen.com
X-WR-CALDESC:Events for Mix It Up Kitchen
REFRESH-INTERVAL;VALUE=DURATION:PT1H
X-Robots-Tag:noindex
X-PUBLISHED-TTL:PT1H
BEGIN:VTIMEZONE
TZID:America/New_York
BEGIN:DAYLIGHT
TZOFFSETFROM:-0500
TZOFFSETTO:-0400
TZNAME:EDT
DTSTART:20160313T070000
END:DAYLIGHT
BEGIN:STANDARD
TZOFFSETFROM:-0400
TZOFFSETTO:-0500
TZNAME:EST
DTSTART:20161106T060000
END:STANDARD
BEGIN:DAYLIGHT
TZOFFSETFROM:-0500
TZOFFSETTO:-0400
TZNAME:EDT
DTSTART:20170312T070000
END:DAYLIGHT
BEGIN:STANDARD
TZOFFSETFROM:-0400
TZOFFSETTO:-0500
TZNAME:EST
DTSTART:20171105T060000
END:STANDARD
BEGIN:DAYLIGHT
TZOFFSETFROM:-0500
TZOFFSETTO:-0400
TZNAME:EDT
DTSTART:20180311T070000
END:DAYLIGHT
BEGIN:STANDARD
TZOFFSETFROM:-0400
TZOFFSETTO:-0500
TZNAME:EST
DTSTART:20181104T060000
END:STANDARD
END:VTIMEZONE
BEGIN:VEVENT
DTSTART;TZID=America/New_York:20171115T103000
DTEND;TZID=America/New_York:20171115T111000
DTSTAMP:20260421T164418
CREATED:20170921T190604Z
LAST-MODIFIED:20170921T190604Z
UID:10001887-1510741800-1510744200@mixitupkitchen.com
SUMMARY:Duxbury Free Library Free Event I Pasta Playtime I Ages 4 & 5
DESCRIPTION:Mix It Up Kitchen will be at the Duxbury Free Library for a special Playtime Pasta stay alone program for children ages 4 and 5.   Measuring\, counting\, and sorting will be practiced through the art of cooking. Children will listen to the story Strega Nona\, color their own chef hat and create a simple pasta salad to take home.  This program is geared for children who are comfortable being away from a caregiver.  \n  \nThis class is full.  Please email us to be put on a waiting list in case someone cancels: info@new.dev.cc \n Date: Wednesday\, Nov. 15th   \nTime: 10:30-11:10 am \nCost: Free (During registration you’ll be prompted to enter an address.  Please put N/A in the field). \n Where:  The children’s program room at the Duxbury Free Library.  \nSpace limited and advance registration is required.   \nOur children classes are nut-free.  Please inform us of any food allergies prior to registering.  Menu items may change due to availability and student dietary restrictions.
URL:https://mixitupkitchen.com/event/duxbury-free-library-pasta-playtime-ages-4-5/
CATEGORIES:Kids & Teens
END:VEVENT
BEGIN:VEVENT
DTSTART;TZID=America/New_York:20171116T190000
DTEND;TZID=America/New_York:20171116T210000
DTSTAMP:20260421T164418
CREATED:20170921T195619Z
LAST-MODIFIED:20170921T195619Z
UID:10001888-1510858800-1510866000@mixitupkitchen.com
SUMMARY:Pan Asian I Adult Workshop
DESCRIPTION:Cook your way through Asia with a fantastic Fusion Menu with Chef Sarah.  You’ll learn tips and techniques while enjoying some flavorful Asian plates.  Class size limited.  Recipes will be available to take home.  BYO welcome. \nMenu: \nShiitake Scallion Pancakes \nFresh Vegetable Spring Rolls  \nVegetable Pad Thai \nThai Beef Salad \n  \nDate: Thursday\, November 16th \n\nTime: 7:00-9:00 PM \nCost: $75 \n\nThings to know: \nWe require a minimum of 6 attendees to run a class.  We reserve the right to cancel a class due to low enrollment and a full refund will be provided.  If you need to cancel\, we can provide a refund if you notify us 10 days prior to the class date (minus a 5% merchant processing fee).  After that time classes are non-refundable\, but you are welcome to send someone in your place (just let us know ahead of time).  Please inform us of any food allergies prior to registering.
URL:https://mixitupkitchen.com/event/pan-asian-adult-workshop-2/
CATEGORIES:Adult Workshops
END:VEVENT
END:VCALENDAR