BEGIN:VCALENDAR
VERSION:2.0
PRODID:-//Mix It Up Kitchen - ECPv6.15.20//NONSGML v1.0//EN
CALSCALE:GREGORIAN
METHOD:PUBLISH
X-ORIGINAL-URL:https://mixitupkitchen.com
X-WR-CALDESC:Events for Mix It Up Kitchen
REFRESH-INTERVAL;VALUE=DURATION:PT1H
X-Robots-Tag:noindex
X-PUBLISHED-TTL:PT1H
BEGIN:VTIMEZONE
TZID:America/New_York
BEGIN:DAYLIGHT
TZOFFSETFROM:-0500
TZOFFSETTO:-0400
TZNAME:EDT
DTSTART:20150308T070000
END:DAYLIGHT
BEGIN:STANDARD
TZOFFSETFROM:-0400
TZOFFSETTO:-0500
TZNAME:EST
DTSTART:20151101T060000
END:STANDARD
BEGIN:DAYLIGHT
TZOFFSETFROM:-0500
TZOFFSETTO:-0400
TZNAME:EDT
DTSTART:20160313T070000
END:DAYLIGHT
BEGIN:STANDARD
TZOFFSETFROM:-0400
TZOFFSETTO:-0500
TZNAME:EST
DTSTART:20161106T060000
END:STANDARD
BEGIN:DAYLIGHT
TZOFFSETFROM:-0500
TZOFFSETTO:-0400
TZNAME:EDT
DTSTART:20170312T070000
END:DAYLIGHT
BEGIN:STANDARD
TZOFFSETFROM:-0400
TZOFFSETTO:-0500
TZNAME:EST
DTSTART:20171105T060000
END:STANDARD
END:VTIMEZONE
BEGIN:VEVENT
DTSTART;TZID=America/New_York:20161223T140000
DTEND;TZID=America/New_York:20161223T153000
DTSTAMP:20260419T182935
CREATED:20161104T152816Z
LAST-MODIFIED:20161104T152816Z
UID:10001914-1482501600-1482507000@mixitupkitchen.com
SUMMARY:Cookies for Santa I Ages 5-9
DESCRIPTION:Join us to make cookies in time for Santa’s arrival!  Each child will leave with a festive plate of cookies- and of course something for Santa’s reindeer.  As our cookies are baking\, we’ll enjoy a snack\, hot cocoa and play some holiday games. \nFriday\, December 23rd \n2:00-3:30 PM \nAges 5-9 \nCost: $35 \nThings to know: \nOur children classes are nut-free.  Please inform us of any food allergies prior to registering.  Menu items may change due to availability and student dietary restrictions. Maximum class size is typically 10 children. We reserve the right to cancel a class due to low enrollment and a full refund will be provided.  Unfortunately\, we cannot provide refunds within 10 days of class start. Please review our cancellation policy on our FAQ page (under the About Us tab).
URL:https://mixitupkitchen.com/event/cookies-santa-ages-5-9/
LOCATION:19 Depot Street\, Duxbury\, 02332\, United States
CATEGORIES:Kids & Teens,Special Event
END:VEVENT
BEGIN:VEVENT
DTSTART;TZID=America/New_York:20161224T100000
DTEND;TZID=America/New_York:20161224T113000
DTSTAMP:20260419T182935
CREATED:20161104T154023Z
LAST-MODIFIED:20161104T154023Z
UID:10001917-1482573600-1482579000@mixitupkitchen.com
SUMMARY:Cookies for Santa- Parent/Child Workshop I Ages 3+
DESCRIPTION:Join us to make cookies for Santa or for your holiday table!  We’ll listen to Christmas music while making festive cookies- and enjoying hot cocoa while they’re baking.  Each Caregiver/Child pair will leave with one festive plate of cookies- and of course something for Santa’s reindeer. Refreshments will be served. This class requires parent or caregiver participation with their child. \nSaturday\, December 24th \n10:00-11:30 AM \nCost: $30 (includes parent & child) \n(Parents may pay for an additional child ($10) at the time of the event. To reserve a spot for a second child\, please email us at info@new.dev.cc when you register the first child). \nThings to know: \nOur children classes are nut-free.  Please inform us of any food allergies prior to registering.  Menu items may change due to availability and student dietary restrictions. Maximum class size is typically 10 children. We reserve the right to cancel a class due to low enrollment and a full refund will be provided.  Unfortunately\, we cannot provide refunds within 10 days of class start. Please review our cancellation policy on our FAQ page (under the About Us tab).
URL:https://mixitupkitchen.com/event/cookies-santa-family-workshop/
LOCATION:19 Depot Street\, Duxbury\, 02332\, United States
CATEGORIES:Family,Kids & Teens,Special Event
END:VEVENT
END:VCALENDAR