BEGIN:VCALENDAR
VERSION:2.0
PRODID:-//Mix It Up Kitchen - ECPv6.15.20//NONSGML v1.0//EN
CALSCALE:GREGORIAN
METHOD:PUBLISH
X-WR-CALNAME:Mix It Up Kitchen
X-ORIGINAL-URL:https://mixitupkitchen.com
X-WR-CALDESC:Events for Mix It Up Kitchen
REFRESH-INTERVAL;VALUE=DURATION:PT1H
X-Robots-Tag:noindex
X-PUBLISHED-TTL:PT1H
BEGIN:VTIMEZONE
TZID:America/New_York
BEGIN:DAYLIGHT
TZOFFSETFROM:-0500
TZOFFSETTO:-0400
TZNAME:EDT
DTSTART:20150308T070000
END:DAYLIGHT
BEGIN:STANDARD
TZOFFSETFROM:-0400
TZOFFSETTO:-0500
TZNAME:EST
DTSTART:20151101T060000
END:STANDARD
BEGIN:DAYLIGHT
TZOFFSETFROM:-0500
TZOFFSETTO:-0400
TZNAME:EDT
DTSTART:20160313T070000
END:DAYLIGHT
BEGIN:STANDARD
TZOFFSETFROM:-0400
TZOFFSETTO:-0500
TZNAME:EST
DTSTART:20161106T060000
END:STANDARD
BEGIN:DAYLIGHT
TZOFFSETFROM:-0500
TZOFFSETTO:-0400
TZNAME:EDT
DTSTART:20170312T070000
END:DAYLIGHT
BEGIN:STANDARD
TZOFFSETFROM:-0400
TZOFFSETTO:-0500
TZNAME:EST
DTSTART:20171105T060000
END:STANDARD
END:VTIMEZONE
BEGIN:VEVENT
DTSTART;TZID=America/New_York:20161122T113000
DTEND;TZID=America/New_York:20161122T131500
DTSTAMP:20260421T185700
CREATED:20161106T120939Z
LAST-MODIFIED:20161106T120939Z
UID:10001921-1479814200-1479820500@mixitupkitchen.com
SUMMARY:Thanksgiving Pies I Adult Workshop
DESCRIPTION:Want to treat friends and family to impressive desserts this Thanksgiving?  Imagine the aroma of deliciously crisp pastry\, caramelized fruits\, fragrant freshly-ground spices and roasting pumpkin filling the air as we prepare pies together for you to take home for thanksgiving dinner.  You’ll leave with two gorgeous pies and build your baking skills with our Pastry Chef\, Sarah- that will last long after the holidays.  All the joys of homemade pie with no messy kitchen to clean up.  You’ll have the option to bake your pie at our kitchen (and picked up later) or finished at home. \nMenu \nGingered pear cranberry and apple crisp pie \nSpiced roast pumpkin coconut pie with a hazelnut crust \nSarah Leahey-Benjamin worked as Head Pastry Chef Hamersley’s Bistro and has taught extensively through out London. \n\nTuesday\, November 22nd \n11:30 AM-1:15 PM \nCost: $60 \n\nThings to know: \nPlease inform us of any food allergies prior to registering.  We reserve the right to cancel a class due to low enrollment and a full refund will be provided.  Unfortunately\, we cannot provide refunds within 7 days of this class.
URL:https://mixitupkitchen.com/event/thanksgiving-pies-2/
LOCATION:19 Depot Street\, Duxbury\, 02332\, United States
CATEGORIES:Adult Workshops,Special Event
END:VEVENT
BEGIN:VEVENT
DTSTART;TZID=America/New_York:20161123T133000
DTEND;TZID=America/New_York:20161123T150000
DTSTAMP:20260421T185700
CREATED:20161104T155300Z
LAST-MODIFIED:20161104T155300Z
UID:10001918-1479907800-1479913200@mixitupkitchen.com
SUMMARY:Turkey Cupcakes I Ages 5-9
DESCRIPTION:Children will want to Gobble up these adorable cupcakes that we’ll decorate as turkeys!  We’ll learn some important measuring skills as we make cupcakes from scratch\, topped with a chocolate buttercream frosting. Each child will decorate 2 cupcakes (chocolate and vanilla)- one to enjoy in class with warm apple cider and one to bring home. \n\nWednesday\, November 23rd \n1:30-3:00 PM \nCost: $35 \n\nThings to know: \nOur children classes are nut-free.  Please inform us of any food allergies prior to registering.  Menu items may change due to availability and student dietary restrictions. Maximum class size is typically 10 children. We reserve the right to cancel a class due to low enrollment and a full refund will be provided.  Unfortunately\, we cannot provide refunds within 10 days of class start. Please review our cancellation policy on our FAQ page (under the About Us tab). \n 
URL:https://mixitupkitchen.com/event/turkey-cupcakes-ages-5-9/
LOCATION:19 Depot Street\, Duxbury\, 02332\, United States
CATEGORIES:Camp Day,Kids & Teens,Special Event
END:VEVENT
END:VCALENDAR