BEGIN:VCALENDAR
VERSION:2.0
PRODID:-//Mix It Up Kitchen - ECPv6.15.20//NONSGML v1.0//EN
CALSCALE:GREGORIAN
METHOD:PUBLISH
X-WR-CALNAME:Mix It Up Kitchen
X-ORIGINAL-URL:https://mixitupkitchen.com
X-WR-CALDESC:Events for Mix It Up Kitchen
REFRESH-INTERVAL;VALUE=DURATION:PT1H
X-Robots-Tag:noindex
X-PUBLISHED-TTL:PT1H
BEGIN:VTIMEZONE
TZID:America/New_York
BEGIN:DAYLIGHT
TZOFFSETFROM:-0500
TZOFFSETTO:-0400
TZNAME:EDT
DTSTART:20150308T070000
END:DAYLIGHT
BEGIN:STANDARD
TZOFFSETFROM:-0400
TZOFFSETTO:-0500
TZNAME:EST
DTSTART:20151101T060000
END:STANDARD
BEGIN:DAYLIGHT
TZOFFSETFROM:-0500
TZOFFSETTO:-0400
TZNAME:EDT
DTSTART:20160313T070000
END:DAYLIGHT
BEGIN:STANDARD
TZOFFSETFROM:-0400
TZOFFSETTO:-0500
TZNAME:EST
DTSTART:20161106T060000
END:STANDARD
BEGIN:DAYLIGHT
TZOFFSETFROM:-0500
TZOFFSETTO:-0400
TZNAME:EDT
DTSTART:20170312T070000
END:DAYLIGHT
BEGIN:STANDARD
TZOFFSETFROM:-0400
TZOFFSETTO:-0500
TZNAME:EST
DTSTART:20171105T060000
END:STANDARD
END:VTIMEZONE
BEGIN:VEVENT
DTSTART;TZID=America/New_York:20161103T190000
DTEND;TZID=America/New_York:20161103T210000
DTSTAMP:20260422T082131
CREATED:20160929T152540Z
LAST-MODIFIED:20160929T152540Z
UID:10001767-1478199600-1478206800@mixitupkitchen.com
SUMMARY:A Taste of France I Adult Workshop
DESCRIPTION:Chef Jackie will demonstrate how to make authentic dishes that are native to France.  This delicious tasting menu is perfect for fall! \nSoup Tomate \nRoasted Ratatouille \nPoulet Cordon Bleu \nWhite Chocolate Creme Brûlée \nThursday\, November 4th \n 7:00-9:00 PM \nCost: $70 \nThings to know: \n\nClass size is limited and for adults only. BYO is welcome. Please inform us of any food allergies prior to registering. Unfortunately\, we cannot provide refunds. However\, you are welcome to send another person in your place. Please inform us ahead of time if someone will be taking your spot.
URL:https://mixitupkitchen.com/event/a-taste-of-france-2/
LOCATION:19 Depot Street\, Duxbury\, 02332\, United States
CATEGORIES:Adult Workshops
END:VEVENT
END:VCALENDAR