BEGIN:VCALENDAR
VERSION:2.0
PRODID:-//Mix It Up Kitchen - ECPv6.15.20//NONSGML v1.0//EN
CALSCALE:GREGORIAN
METHOD:PUBLISH
X-WR-CALNAME:Mix It Up Kitchen
X-ORIGINAL-URL:https://mixitupkitchen.com
X-WR-CALDESC:Events for Mix It Up Kitchen
REFRESH-INTERVAL;VALUE=DURATION:PT1H
X-Robots-Tag:noindex
X-PUBLISHED-TTL:PT1H
BEGIN:VTIMEZONE
TZID:America/New_York
BEGIN:DAYLIGHT
TZOFFSETFROM:-0500
TZOFFSETTO:-0400
TZNAME:EDT
DTSTART:20150308T070000
END:DAYLIGHT
BEGIN:STANDARD
TZOFFSETFROM:-0400
TZOFFSETTO:-0500
TZNAME:EST
DTSTART:20151101T060000
END:STANDARD
BEGIN:DAYLIGHT
TZOFFSETFROM:-0500
TZOFFSETTO:-0400
TZNAME:EDT
DTSTART:20160313T070000
END:DAYLIGHT
BEGIN:STANDARD
TZOFFSETFROM:-0400
TZOFFSETTO:-0500
TZNAME:EST
DTSTART:20161106T060000
END:STANDARD
BEGIN:DAYLIGHT
TZOFFSETFROM:-0500
TZOFFSETTO:-0400
TZNAME:EDT
DTSTART:20170312T070000
END:DAYLIGHT
BEGIN:STANDARD
TZOFFSETFROM:-0400
TZOFFSETTO:-0500
TZNAME:EST
DTSTART:20171105T060000
END:STANDARD
END:VTIMEZONE
BEGIN:VEVENT
DTSTART;TZID=America/New_York:20160801T090000
DTEND;TZID=America/New_York:20160801T120000
DTSTAMP:20260423T132349
CREATED:20160325T115430Z
LAST-MODIFIED:20160325T115430Z
UID:10001845-1470042000-1470052800@mixitupkitchen.com
SUMMARY:Farm to Fork I 4 Days Ages 8-12
DESCRIPTION:We’ll bring loads of farm fresh fruits and vegetables to cook a variety of savory dishes and sweet treats all week. On the menu will be a seasonal vegetable soup and other savory dishes\, sorbets\, fresh fruit desserts\, smoothies and more!  Children will learn about our local food production and tend to our outdoor herb garden with Marlene\, our Master Gardener. \nAugust 1st to August 4th (Monday\, Tuesday\, Wednesday\, Thursday) \n9:00 AM-12:00 PM \n$225 \nPlease inform us of any food allergies prior to registering.
URL:https://mixitupkitchen.com/event/farm-fork-4-days-ages-8-12-2/
LOCATION:19 Depot Street\, Duxbury\, 02332\, United States
CATEGORIES:Camp Day,Kids & Teens
ATTACH;FMTTYPE=:
END:VEVENT
END:VCALENDAR