BEGIN:VCALENDAR
VERSION:2.0
PRODID:-//Mix It Up Kitchen - ECPv6.15.20//NONSGML v1.0//EN
CALSCALE:GREGORIAN
METHOD:PUBLISH
X-WR-CALNAME:Mix It Up Kitchen
X-ORIGINAL-URL:https://mixitupkitchen.com
X-WR-CALDESC:Events for Mix It Up Kitchen
REFRESH-INTERVAL;VALUE=DURATION:PT1H
X-Robots-Tag:noindex
X-PUBLISHED-TTL:PT1H
BEGIN:VTIMEZONE
TZID:America/New_York
BEGIN:DAYLIGHT
TZOFFSETFROM:-0500
TZOFFSETTO:-0400
TZNAME:EDT
DTSTART:20150308T070000
END:DAYLIGHT
BEGIN:STANDARD
TZOFFSETFROM:-0400
TZOFFSETTO:-0500
TZNAME:EST
DTSTART:20151101T060000
END:STANDARD
BEGIN:DAYLIGHT
TZOFFSETFROM:-0500
TZOFFSETTO:-0400
TZNAME:EDT
DTSTART:20160313T070000
END:DAYLIGHT
BEGIN:STANDARD
TZOFFSETFROM:-0400
TZOFFSETTO:-0500
TZNAME:EST
DTSTART:20161106T060000
END:STANDARD
BEGIN:DAYLIGHT
TZOFFSETFROM:-0500
TZOFFSETTO:-0400
TZNAME:EDT
DTSTART:20170312T070000
END:DAYLIGHT
BEGIN:STANDARD
TZOFFSETFROM:-0400
TZOFFSETTO:-0500
TZNAME:EST
DTSTART:20171105T060000
END:STANDARD
END:VTIMEZONE
BEGIN:VEVENT
DTSTART;TZID=America/New_York:20160801T090000
DTEND;TZID=America/New_York:20160801T120000
DTSTAMP:20260421T221258
CREATED:20160325T115430Z
LAST-MODIFIED:20160325T115430Z
UID:10001845-1470042000-1470052800@mixitupkitchen.com
SUMMARY:Farm to Fork I 4 Days Ages 8-12
DESCRIPTION:We’ll bring loads of farm fresh fruits and vegetables to cook a variety of savory dishes and sweet treats all week. On the menu will be a seasonal vegetable soup and other savory dishes\, sorbets\, fresh fruit desserts\, smoothies and more!  Children will learn about our local food production and tend to our outdoor herb garden with Marlene\, our Master Gardener. \nAugust 1st to August 4th (Monday\, Tuesday\, Wednesday\, Thursday) \n9:00 AM-12:00 PM \n$225 \nPlease inform us of any food allergies prior to registering.
URL:https://mixitupkitchen.com/event/farm-fork-4-days-ages-8-12-2/
LOCATION:19 Depot Street\, Duxbury\, 02332\, United States
CATEGORIES:Camp Day,Kids & Teens
ATTACH;FMTTYPE=:
END:VEVENT
BEGIN:VEVENT
DTSTART;TZID=America/New_York:20160808T130000
DTEND;TZID=America/New_York:20160808T160000
DTSTAMP:20260421T221258
CREATED:20160519T072033Z
LAST-MODIFIED:20160519T072033Z
UID:10001873-1470661200-1470672000@mixitupkitchen.com
SUMMARY:Frozen Treats I Ages 8-12
DESCRIPTION:We’ll scoop up some fun as we make ice creams\, sorbets\, granitas and sweet accompaniments. We’ll focus on all things frozen: Ice cream sandwiches\, Sorbets\, Smoothies\, Crepes\, Brownie Sundaes- and more! \nAugust 8th to August 11th (Monday\, Tuesday\, Wednesday\, Thursday) \n1:00 PM-4:00 PM \n$225 \nPlease inform us of any food allergies prior to registering.
URL:https://mixitupkitchen.com/event/frozen-ages-8-12/
LOCATION:19 Depot Street\, Duxbury\, 02332\, United States
CATEGORIES:Camp Day,Kids & Teens
END:VEVENT
BEGIN:VEVENT
DTSTART;TZID=America/New_York:20160815T130000
DTEND;TZID=America/New_York:20160815T160000
DTSTAMP:20260421T221258
CREATED:20160325T121015Z
LAST-MODIFIED:20160325T121015Z
UID:10001850-1471266000-1471276800@mixitupkitchen.com
SUMMARY:Eating Around the Globe I 2 Days Ages 8-12
DESCRIPTION:Leave your suitcase at home but bring along your appetite! In this hands-on cooking class we will visit a different country each day. First stop: Italy!  We’ll learn the art of making fresh pasta and satisfy our sweet tooth with homemade gelato. Next on our stop: France!  We’ll make sweet and savory crepes and other dishes native to France. \nAugust 15th & August 17th  Monday & Wednesday \n\n1:00-4:00 PM \n$115 \nPlease inform us of any food allergies prior to registering.
URL:https://mixitupkitchen.com/event/taste-italy-4-days-ages-8-12/
LOCATION:19 Depot Street\, Duxbury\, 02332\, United States
CATEGORIES:Camp Day,Kids & Teens
END:VEVENT
BEGIN:VEVENT
DTSTART;TZID=America/New_York:20160816T090000
DTEND;TZID=America/New_York:20160816T120000
DTSTAMP:20260421T221258
CREATED:20160325T120814Z
LAST-MODIFIED:20160325T120814Z
UID:10001849-1471338000-1471348800@mixitupkitchen.com
SUMMARY:A Taste of Italy I 2 Days Ages 4-7
DESCRIPTION:Join us for a tour of Italy!  We’re ending the summer with one of our favorite delizioso classes. We’ll learn the art of making fresh pasta\, a fragrant sauce\, homemade pizza and yummy gelato and other Italian treats.    \nAugust 16th & August 17th (Tuesday & Wednesday) \n\n9:00 AM-12:00 PM \n$115 \nPlease inform us of any food allergies prior to registering.
URL:https://mixitupkitchen.com/event/taste-italy-4-days-ages-4-7/
LOCATION:19 Depot Street\, Duxbury\, 02332\, United States
CATEGORIES:Camp Day,Kids & Teens
END:VEVENT
BEGIN:VEVENT
DTSTART;TZID=America/New_York:20160829T100000
DTEND;TZID=America/New_York:20160829T120000
DTSTAMP:20260421T221258
CREATED:20160820T004419Z
LAST-MODIFIED:20160820T004419Z
UID:10001878-1472464800-1472472000@mixitupkitchen.com
SUMMARY:Cupcake Wars I Ages 9-12
DESCRIPTION:Each team will mix\, bake and design award winning cupcakes for a chance to win the Baker’s Battle!  We’ll learn proper baking techniques and how to decorate like a pro.  At the end of class\, our judges will decide the winning team. Students will sample their creations in class and take home their competition cupcakes.  \nMonday\, August 29th \n10:00 AM-12:00 PM \n$45 \nPlease inform us of any food allergies prior to registering.
URL:https://mixitupkitchen.com/event/end-summer-cupcake-wars-ages-9-12/
LOCATION:19 Depot Street\, Duxbury\, 02332\, United States
CATEGORIES:Camp Day,Kids & Teens
END:VEVENT
END:VCALENDAR