BEGIN:VCALENDAR
VERSION:2.0
PRODID:-//Mix It Up Kitchen - ECPv6.15.20//NONSGML v1.0//EN
CALSCALE:GREGORIAN
METHOD:PUBLISH
X-ORIGINAL-URL:https://mixitupkitchen.com
X-WR-CALDESC:Events for Mix It Up Kitchen
REFRESH-INTERVAL;VALUE=DURATION:PT1H
X-Robots-Tag:noindex
X-PUBLISHED-TTL:PT1H
BEGIN:VTIMEZONE
TZID:America/New_York
BEGIN:DAYLIGHT
TZOFFSETFROM:-0500
TZOFFSETTO:-0400
TZNAME:EDT
DTSTART:20150308T070000
END:DAYLIGHT
BEGIN:STANDARD
TZOFFSETFROM:-0400
TZOFFSETTO:-0500
TZNAME:EST
DTSTART:20151101T060000
END:STANDARD
BEGIN:DAYLIGHT
TZOFFSETFROM:-0500
TZOFFSETTO:-0400
TZNAME:EDT
DTSTART:20160313T070000
END:DAYLIGHT
BEGIN:STANDARD
TZOFFSETFROM:-0400
TZOFFSETTO:-0500
TZNAME:EST
DTSTART:20161106T060000
END:STANDARD
BEGIN:DAYLIGHT
TZOFFSETFROM:-0500
TZOFFSETTO:-0400
TZNAME:EDT
DTSTART:20170312T070000
END:DAYLIGHT
BEGIN:STANDARD
TZOFFSETFROM:-0400
TZOFFSETTO:-0500
TZNAME:EST
DTSTART:20171105T060000
END:STANDARD
END:VTIMEZONE
BEGIN:VEVENT
DTSTART;TZID=America/New_York:20160711T090000
DTEND;TZID=America/New_York:20160711T120000
DTSTAMP:20260422T095730
CREATED:20160325T111336Z
LAST-MODIFIED:20160325T111336Z
UID:10001833-1468227600-1468238400@mixitupkitchen.com
SUMMARY:Cupcake Wars I 4 Days Ages 8-12
DESCRIPTION:Team up to showcase your talents for a cupcake challenge! Leading up to Competition Day\, we will learn to make cupcakes form scratch and experiment with different frosting techniques. On Battle day\, each team will receive a cupcake assignment and a mystery bag. Our surprise judges will decide the winning team. Students will sample their creations in class and take home their Battle Day cupcakes. We’re sorry\, this event is sold out. \nJuly 11th to July 14th (Monday\, Tuesday\, Wednesday\, Thursday) \n9:00 AM-12:00 PM \n$225 \nPlease inform us of any food allergies prior to registering.
URL:https://mixitupkitchen.com/event/cupcake-wars-4-days-ages-8-12/
LOCATION:19 Depot Street\, Duxbury\, 02332\, United States
CATEGORIES:Camp Day,Kids & Teens
END:VEVENT
BEGIN:VEVENT
DTSTART;TZID=America/New_York:20160711T130000
DTEND;TZID=America/New_York:20160711T160000
DTSTAMP:20260422T095730
CREATED:20160325T112550Z
LAST-MODIFIED:20160325T112550Z
UID:10001835-1468242000-1468252800@mixitupkitchen.com
SUMMARY:Cupcake Wars I 4 Days Ages 11-14
DESCRIPTION:Team up to showcase your talents for a cupcake challenge! Leading up to Competition Day\, we will learn to make cupcakes form scratch and experiment with different frosting techniques. On Battle day\, each team will receive a cupcake assignment and a mystery bag. Our surprise judges will decide the winning team. Students will sample their creations in class and take home their Battle Day cupcakes. \nJuly 11th to July 14th (Monday\, Tuesday\, Wednesday\, Thursday) \n1:00-4:00 PM \n$225 \nPlease inform us of any food allergies prior to registering.
URL:https://mixitupkitchen.com/event/cupcake-wars-4-days-ages-11-14-2/
LOCATION:19 Depot Street\, Duxbury\, 02332\, United States
CATEGORIES:Camp Day
END:VEVENT
BEGIN:VEVENT
DTSTART;TZID=America/New_York:20160718T130000
DTEND;TZID=America/New_York:20160718T160000
DTSTAMP:20260422T095730
CREATED:20160325T114116Z
LAST-MODIFIED:20160325T114116Z
UID:10001839-1468846800-1468857600@mixitupkitchen.com
SUMMARY:Cooking Across America I 4 Days Ages 8-12
DESCRIPTION:Take a road trip down Route 66 for a Culinary Adventure!  We will learn about popular foods that are unique to different areas of the country and make popular regional dishes and treats such as New England Chowder with corn bread\, Southern Peach Pie\, Tex Mex and more! \nJuly 18th to July 21st (Monday\, Tuesday\, Wednesday\, Thursday) \n1:00-4:00 PM \n$225 \nPlease inform us of any food allergies prior to registering.
URL:https://mixitupkitchen.com/event/cooking-across-america-4-days-ages-8-12/
LOCATION:19 Depot Street\, Duxbury\, 02332\, United States
CATEGORIES:Camp Day,Kids & Teens
END:VEVENT
BEGIN:VEVENT
DTSTART;TZID=America/New_York:20160725T090000
DTEND;TZID=America/New_York:20160725T120000
DTSTAMP:20260422T095730
CREATED:20160325T114655Z
LAST-MODIFIED:20160325T114655Z
UID:10001841-1469437200-1469448000@mixitupkitchen.com
SUMMARY:Farm to Fork I 4 Days Ages 4-7
DESCRIPTION:We’ll bring loads of farm fresh fruits and vegetables to cook a variety of savory dishes and sweet treats all week. On the menu will be a seasonal vegetable soup and other savory dishes\, sorbets\, fresh fruit desserts\, smoothies and more!  Children will learn about our local food production and tend to our outdoor herb garden with Marlene\, our Master Gardener. \nJuly 25th to July 28th (Monday\, Tuesday\, Wednesday\, Thursday) \n9:00 AM-12:00 PM \n$225 \nPlease inform us of any food allergies prior to registering.
URL:https://mixitupkitchen.com/event/farm-fork-4-days-ages-4-7/
LOCATION:19 Depot Street\, Duxbury\, 02332\, United States
CATEGORIES:Camp Day,Kids & Teens
ATTACH;FMTTYPE=:
END:VEVENT
BEGIN:VEVENT
DTSTART;TZID=America/New_York:20160725T130000
DTEND;TZID=America/New_York:20160725T160000
DTSTAMP:20260422T095730
CREATED:20160325T114922Z
LAST-MODIFIED:20160325T114922Z
UID:10001843-1469451600-1469462400@mixitupkitchen.com
SUMMARY:Chopped Challenge I 4 Days Ages 9-13
DESCRIPTION:We’ll have mini challenges through out the week using mystery basket ingredients and a deadline!  This is a fast-paced and fun camp that will challenge children to be creative with their ingredients and to think outside the box! \nJuly 26th to July 29th (Monday\, Tuesday\, Wednesday\, Thursday) \n1:00-4:00 PM \n$225 \nPlease inform us of any food allergies prior to registering.
URL:https://mixitupkitchen.com/event/farm-fork-4-days-ages-8-12/
LOCATION:19 Depot Street\, Duxbury\, 02332\, United States
CATEGORIES:Camp Day,Kids & Teens
END:VEVENT
END:VCALENDAR