BEGIN:VCALENDAR
VERSION:2.0
PRODID:-//Mix It Up Kitchen - ECPv6.15.20//NONSGML v1.0//EN
CALSCALE:GREGORIAN
METHOD:PUBLISH
X-WR-CALNAME:Mix It Up Kitchen
X-ORIGINAL-URL:https://mixitupkitchen.com
X-WR-CALDESC:Events for Mix It Up Kitchen
REFRESH-INTERVAL;VALUE=DURATION:PT1H
X-Robots-Tag:noindex
X-PUBLISHED-TTL:PT1H
BEGIN:VTIMEZONE
TZID:America/New_York
BEGIN:DAYLIGHT
TZOFFSETFROM:-0500
TZOFFSETTO:-0400
TZNAME:EDT
DTSTART:20160313T070000
END:DAYLIGHT
BEGIN:STANDARD
TZOFFSETFROM:-0400
TZOFFSETTO:-0500
TZNAME:EST
DTSTART:20161106T060000
END:STANDARD
BEGIN:DAYLIGHT
TZOFFSETFROM:-0500
TZOFFSETTO:-0400
TZNAME:EDT
DTSTART:20170312T070000
END:DAYLIGHT
BEGIN:STANDARD
TZOFFSETFROM:-0400
TZOFFSETTO:-0500
TZNAME:EST
DTSTART:20171105T060000
END:STANDARD
BEGIN:DAYLIGHT
TZOFFSETFROM:-0500
TZOFFSETTO:-0400
TZNAME:EDT
DTSTART:20180311T070000
END:DAYLIGHT
BEGIN:STANDARD
TZOFFSETFROM:-0400
TZOFFSETTO:-0500
TZNAME:EST
DTSTART:20181104T060000
END:STANDARD
END:VTIMEZONE
BEGIN:VEVENT
DTSTART;TZID=America/New_York:20170920T160000
DTEND;TZID=America/New_York:20170920T173000
DTSTAMP:20260421T222033
CREATED:20170823T135435Z
LAST-MODIFIED:20170823T135435Z
UID:10002103-1505923200-1505928600@mixitupkitchen.com
SUMMARY:Bake Shop Favorites Wednesdays I 3 Week Series I Ages 8-13
DESCRIPTION:We’ll have fun mixing up some bakery-style favorites while learning proper measuring techniques (by hand and using kitchen scales) along with recipe comprehension and setting up our “mis en place” to be well-organized.  Baking also reinforces math\, reading and science!   Class size limited.   \nSome of our menu items will include muffins\, cookies\, breads and tarts.  This is a nut-free class but is not appropriate for children with dairy or gluten sensitivities.  A gluten free baking class will be offered later in the fall. \nDate: Wednesday\, September 20th\, 27th & October 4th \nTime: 4:00-5:30 pm \nCost: $110 \nThings to know: \nOur children classes are nut-free.  Please inform us of any food allergies prior to registering.  Menu items may change due to availability and student dietary restrictions.  We reserve the right to cancel a class due to low enrollment and a full refund will be provided.  Unfortunately\, we cannot provide refunds within 10 days of class start. Please review our cancellation policy on our FAQ page (under the About Us tab).
URL:https://mixitupkitchen.com/event/bake-shop-favorites-wednesdays-3-week-series-ages-8-13-2/
LOCATION:19 Depot Street\, Duxbury\, 02332\, United States
CATEGORIES:Kids & Teens
END:VEVENT
END:VCALENDAR