BEGIN:VCALENDAR
VERSION:2.0
PRODID:-//Mix It Up Kitchen - ECPv6.15.20//NONSGML v1.0//EN
CALSCALE:GREGORIAN
METHOD:PUBLISH
X-ORIGINAL-URL:https://mixitupkitchen.com
X-WR-CALDESC:Events for Mix It Up Kitchen
REFRESH-INTERVAL;VALUE=DURATION:PT1H
X-Robots-Tag:noindex
X-PUBLISHED-TTL:PT1H
BEGIN:VTIMEZONE
TZID:America/New_York
BEGIN:DAYLIGHT
TZOFFSETFROM:-0500
TZOFFSETTO:-0400
TZNAME:EDT
DTSTART:20150308T070000
END:DAYLIGHT
BEGIN:STANDARD
TZOFFSETFROM:-0400
TZOFFSETTO:-0500
TZNAME:EST
DTSTART:20151101T060000
END:STANDARD
BEGIN:DAYLIGHT
TZOFFSETFROM:-0500
TZOFFSETTO:-0400
TZNAME:EDT
DTSTART:20160313T070000
END:DAYLIGHT
BEGIN:STANDARD
TZOFFSETFROM:-0400
TZOFFSETTO:-0500
TZNAME:EST
DTSTART:20161106T060000
END:STANDARD
BEGIN:DAYLIGHT
TZOFFSETFROM:-0500
TZOFFSETTO:-0400
TZNAME:EDT
DTSTART:20170312T070000
END:DAYLIGHT
BEGIN:STANDARD
TZOFFSETFROM:-0400
TZOFFSETTO:-0500
TZNAME:EST
DTSTART:20171105T060000
END:STANDARD
END:VTIMEZONE
BEGIN:VEVENT
DTSTART;TZID=America/New_York:20161208T183000
DTEND;TZID=America/New_York:20161208T203000
DTSTAMP:20260423T071133
CREATED:20161117T021334Z
LAST-MODIFIED:20161117T021334Z
UID:10001934-1481221800-1481229000@mixitupkitchen.com
SUMMARY:Girls Night Out Holiday Appetizers Sip & Sample I Adult Workshop
DESCRIPTION:We’ll show you how to add style to your spread with a variety of appetizers that are delicious yet simple to prepare (and many that can be made ahead).  From spiced nuts to smoked trout\, we’ll arm you with a new repertoire of hors d’oeuvres to jazz up your next gathering!  BYO welcome. We will also be sampling some wines to pair with hors d’oeuvres that can be purchased from Snug Harbor Wine. \nInstructor: Chef Sarah Leahey-Benjamin \nWe apologize\, this class is now full.  Due to the popularity of the event\, we are considering offering another class.  If you’re interested in being notified or would like to be on a waitlist\, please email us at info@new.dev.cc. \n\nThursday\, December 8th \n6:30-8:30 PM \nCost: $65 \n\nThings to know: \nPlease inform us of any food allergies prior to registering.  We reserve the right to cancel a class due to low enrollment and a full refund will be provided.  If you need to cancel\, we can provide a refund within 7 days of class time. After that time classes are non-refundable.
URL:https://mixitupkitchen.com/event/holiday-appetizers-2/
LOCATION:19 Depot Street\, Duxbury\, 02332\, United States
CATEGORIES:Adult Workshops
END:VEVENT
END:VCALENDAR