BEGIN:VCALENDAR
VERSION:2.0
PRODID:-//Mix It Up Kitchen - ECPv6.15.20//NONSGML v1.0//EN
CALSCALE:GREGORIAN
METHOD:PUBLISH
X-ORIGINAL-URL:https://mixitupkitchen.com
X-WR-CALDESC:Events for Mix It Up Kitchen
REFRESH-INTERVAL;VALUE=DURATION:PT1H
X-Robots-Tag:noindex
X-PUBLISHED-TTL:PT1H
BEGIN:VTIMEZONE
TZID:America/New_York
BEGIN:DAYLIGHT
TZOFFSETFROM:-0500
TZOFFSETTO:-0400
TZNAME:EDT
DTSTART:20150308T070000
END:DAYLIGHT
BEGIN:STANDARD
TZOFFSETFROM:-0400
TZOFFSETTO:-0500
TZNAME:EST
DTSTART:20151101T060000
END:STANDARD
BEGIN:DAYLIGHT
TZOFFSETFROM:-0500
TZOFFSETTO:-0400
TZNAME:EDT
DTSTART:20160313T070000
END:DAYLIGHT
BEGIN:STANDARD
TZOFFSETFROM:-0400
TZOFFSETTO:-0500
TZNAME:EST
DTSTART:20161106T060000
END:STANDARD
BEGIN:DAYLIGHT
TZOFFSETFROM:-0500
TZOFFSETTO:-0400
TZNAME:EDT
DTSTART:20170312T070000
END:DAYLIGHT
BEGIN:STANDARD
TZOFFSETFROM:-0400
TZOFFSETTO:-0500
TZNAME:EST
DTSTART:20171105T060000
END:STANDARD
END:VTIMEZONE
BEGIN:VEVENT
DTSTART;TZID=America/New_York:20161028T130000
DTEND;TZID=America/New_York:20161028T140000
DTSTAMP:20260422T081922
CREATED:20160827T143247Z
LAST-MODIFIED:20160827T143247Z
UID:10001892-1477659600-1477663200@mixitupkitchen.com
SUMMARY:Spooky Cupcakes I Ages 3-5
DESCRIPTION:Get into the Spirit of Halloween at our Spooky Cupcakes workshop.  We’ll do some mixing and measuring to make cupcakes and decorate them with a Halloween theme!  We’ll enjoy cupcakes in class and also bring one home! \nFriday\, October 28th \n1:00-2:00 PM \nCost: $20 when you bring in a non-perishable food donation for the Duxbury Food Pantry. \n  \n\n  \nThings to know: \nA caregiver is asked to stay at the kitchen for children under 4 years of age.  Our children classes are nut-free.  Please inform us of any food allergies prior to registering.  Menu items may change due to availability and student dietary restrictions. Maximum class size is typically 10 children. We reserve the right to cancel a class due to low enrollment and a full refund will be provided.  Unfortunately\, we cannot provide refunds within 10 days of class start. Please review our cancellation policy on our FAQ page (under the About Us tab).
URL:https://mixitupkitchen.com/event/spooky-cupcakes-ages-3-5/
LOCATION:19 Depot Street\, Duxbury\, 02332\, United States
CATEGORIES:Kids & Teens,Special Event
END:VEVENT
BEGIN:VEVENT
DTSTART;TZID=America/New_York:20161028T160000
DTEND;TZID=America/New_York:20161028T171500
DTSTAMP:20260422T081922
CREATED:20160827T144050Z
LAST-MODIFIED:20160827T144050Z
UID:10001893-1477670400-1477674900@mixitupkitchen.com
SUMMARY:Spooky Cupcake Workshop I Ages 5-9
DESCRIPTION:Measuring\, mixing\, baking\, and frosting! We will make and decorate some scary but cute Halloween cupcakes. Each child will decorate 2 cupcakes (chocolate and vanilla)- one to enjoy in class and one to bring home. \nFriday\, October 28th \n4:00-5:15 PM \nCost: $35 \n\nThings to know: \nOur children classes are nut-free.  Please inform us of any food allergies prior to registering.  Menu items may change due to availability and student dietary restrictions. Maximum class size is typically 10 children. We reserve the right to cancel a class due to low enrollment and a full refund will be provided.  Unfortunately\, we cannot provide refunds within 10 days of class start. Please review our cancellation policy on our FAQ page (under the About Us tab).
URL:https://mixitupkitchen.com/event/spooky-cupcakes-ages-5-9-2/
LOCATION:19 Depot Street\, Duxbury\, 02332\, United States
CATEGORIES:Family,Kids & Teens,Special Event
END:VEVENT
END:VCALENDAR