BEGIN:VCALENDAR
VERSION:2.0
PRODID:-//Mix It Up Kitchen - ECPv6.15.20//NONSGML v1.0//EN
CALSCALE:GREGORIAN
METHOD:PUBLISH
X-WR-CALNAME:Mix It Up Kitchen
X-ORIGINAL-URL:https://mixitupkitchen.com
X-WR-CALDESC:Events for Mix It Up Kitchen
REFRESH-INTERVAL;VALUE=DURATION:PT1H
X-Robots-Tag:noindex
X-PUBLISHED-TTL:PT1H
BEGIN:VTIMEZONE
TZID:America/New_York
BEGIN:DAYLIGHT
TZOFFSETFROM:-0500
TZOFFSETTO:-0400
TZNAME:EDT
DTSTART:20150308T070000
END:DAYLIGHT
BEGIN:STANDARD
TZOFFSETFROM:-0400
TZOFFSETTO:-0500
TZNAME:EST
DTSTART:20151101T060000
END:STANDARD
BEGIN:DAYLIGHT
TZOFFSETFROM:-0500
TZOFFSETTO:-0400
TZNAME:EDT
DTSTART:20160313T070000
END:DAYLIGHT
BEGIN:STANDARD
TZOFFSETFROM:-0400
TZOFFSETTO:-0500
TZNAME:EST
DTSTART:20161106T060000
END:STANDARD
BEGIN:DAYLIGHT
TZOFFSETFROM:-0500
TZOFFSETTO:-0400
TZNAME:EDT
DTSTART:20170312T070000
END:DAYLIGHT
BEGIN:STANDARD
TZOFFSETFROM:-0400
TZOFFSETTO:-0500
TZNAME:EST
DTSTART:20171105T060000
END:STANDARD
END:VTIMEZONE
BEGIN:VEVENT
DTSTART;TZID=America/New_York:20160922T153000
DTEND;TZID=America/New_York:20160922T170000
DTSTAMP:20260420T204433
CREATED:20160827T141507Z
LAST-MODIFIED:20160827T141507Z
UID:10001882-1474558200-1474563600@mixitupkitchen.com
SUMMARY:Kids Baking I 4-Week Thursday Series I Ages 8-12
DESCRIPTION:Children will learn proper measuring techniques\, how to read and follow multi-step “process-oriented” recipes and use kitchen tools safely through a variety of baked goods. We will take advantage of the season’s fall fruits. At the end of each class\, we will taste our creations and bring some home.   \nSome of our menu items will include: Apple Tarts with vanilla bean ice cream\, Pumpkin Whoopie Pies\, cookies\, various breads and fruit bars. \nThursdays: September 22nd\, 29th\, October 6th\, October 13th \n3:30-5:00 pm \n$140 for a 4 week series \n  \nThings to know: \nOur children classes are nut-free.  Please inform us of any food allergies prior to registering.  Menu items may change due to availability and student dietary restrictions. Maximum class size is typically 10 children. We reserve the right to cancel a class due to low enrollment and a full refund will be provided.  Unfortunately\, we cannot provide refunds within 10 days of class start. Please review our cancellation policy on our FAQ page (under the About Us tab).
URL:https://mixitupkitchen.com/event/kids-baking-series-5-weeks-ages-9-13/
LOCATION:19 Depot Street\, Duxbury\, 02332\, United States
CATEGORIES:Kids & Teens
END:VEVENT
END:VCALENDAR