BEGIN:VCALENDAR
VERSION:2.0
PRODID:-//Mix It Up Kitchen - ECPv6.15.20//NONSGML v1.0//EN
CALSCALE:GREGORIAN
METHOD:PUBLISH
X-WR-CALNAME:Mix It Up Kitchen
X-ORIGINAL-URL:https://mixitupkitchen.com
X-WR-CALDESC:Events for Mix It Up Kitchen
REFRESH-INTERVAL;VALUE=DURATION:PT1H
X-Robots-Tag:noindex
X-PUBLISHED-TTL:PT1H
BEGIN:VTIMEZONE
TZID:America/New_York
BEGIN:DAYLIGHT
TZOFFSETFROM:-0500
TZOFFSETTO:-0400
TZNAME:EDT
DTSTART:20170312T070000
END:DAYLIGHT
BEGIN:STANDARD
TZOFFSETFROM:-0400
TZOFFSETTO:-0500
TZNAME:EST
DTSTART:20171105T060000
END:STANDARD
BEGIN:DAYLIGHT
TZOFFSETFROM:-0500
TZOFFSETTO:-0400
TZNAME:EDT
DTSTART:20180311T070000
END:DAYLIGHT
BEGIN:STANDARD
TZOFFSETFROM:-0400
TZOFFSETTO:-0500
TZNAME:EST
DTSTART:20181104T060000
END:STANDARD
BEGIN:DAYLIGHT
TZOFFSETFROM:-0500
TZOFFSETTO:-0400
TZNAME:EDT
DTSTART:20190310T070000
END:DAYLIGHT
BEGIN:STANDARD
TZOFFSETFROM:-0400
TZOFFSETTO:-0500
TZNAME:EST
DTSTART:20191103T060000
END:STANDARD
END:VTIMEZONE
BEGIN:VEVENT
DTSTART;TZID=America/New_York:20180922T090000
DTEND;TZID=America/New_York:20180922T110000
DTSTAMP:20260419T133830
CREATED:20180904T121815Z
LAST-MODIFIED:20180904T121815Z
UID:24296-1537606800-1537614000@mixitupkitchen.com
SUMMARY:Wicked Good Cause | Go Gold Cupcakes | All Ages
DESCRIPTION:September is the nationally recognized month for raising awareness for childhood cancer.  Mix It Up Kitchen is proud to team up with the Go Wicked Gold campaign to help.  Register ahead and stop in to decorate 4 Wicked Good Golden Vanilla Cupcakes with buttercream frosting\, gold sprinkles and tiny gold fondant cancer ribbons to support this cause. \n100% of the profits will go to the Wicked Good Cause Go Gold Campaign. \nHave a sweet tooth but no time to decorate?  Let us know when you register and we’ll have them decorated\, boxed and ready to go.  We’re even happy to donate them to our local Police or Fire Department. \nYou get to bring home 4 deliciously decorated cupcakes while helping fight pediatric cancer…That’s a Wicked Good deal! \n  \nWhen: Saturday\, September 22nd  Advance registration is required. \nTime: Any time between 9:00-11:00 AM (plan to spend about 20-30 minutes at the kitchen depending on your speed) \nCost: $20 per person \n\n\n  \nThings to know: \nCupcakes will be baked ahead of time and ready to be decorated.  This is not a drop off event.  Please stay with your child while he/she decorates their cupcakes.  We do not use peanuts or tree nuts in our children’s classes\, however we cannot guarantee that cupcake decorations are manufactured in a nut-free facility.  Therefore\, please contact us before registering to check labels.  This workshop is non-refundable.  If you can’t make it\, please consider it a worthy donation or you may send someone in your place. \n\n\n 
URL:https://mixitupkitchen.com/event/wicked-good-cause-go-gold-cupcakes/
LOCATION:19 Depot Street\, Duxbury\, MA\, 02332\, United States
CATEGORIES:Family,Kids & Teens,Special Event
END:VEVENT
END:VCALENDAR