BEGIN:VCALENDAR
VERSION:2.0
PRODID:-//Mix It Up Kitchen - ECPv6.15.20//NONSGML v1.0//EN
CALSCALE:GREGORIAN
METHOD:PUBLISH
X-WR-CALNAME:Mix It Up Kitchen
X-ORIGINAL-URL:https://mixitupkitchen.com
X-WR-CALDESC:Events for Mix It Up Kitchen
REFRESH-INTERVAL;VALUE=DURATION:PT1H
X-Robots-Tag:noindex
X-PUBLISHED-TTL:PT1H
BEGIN:VTIMEZONE
TZID:America/New_York
BEGIN:DAYLIGHT
TZOFFSETFROM:-0500
TZOFFSETTO:-0400
TZNAME:EDT
DTSTART:20240310T070000
END:DAYLIGHT
BEGIN:STANDARD
TZOFFSETFROM:-0400
TZOFFSETTO:-0500
TZNAME:EST
DTSTART:20241103T060000
END:STANDARD
BEGIN:DAYLIGHT
TZOFFSETFROM:-0500
TZOFFSETTO:-0400
TZNAME:EDT
DTSTART:20250309T070000
END:DAYLIGHT
BEGIN:STANDARD
TZOFFSETFROM:-0400
TZOFFSETTO:-0500
TZNAME:EST
DTSTART:20251102T060000
END:STANDARD
BEGIN:DAYLIGHT
TZOFFSETFROM:-0500
TZOFFSETTO:-0400
TZNAME:EDT
DTSTART:20260308T070000
END:DAYLIGHT
BEGIN:STANDARD
TZOFFSETFROM:-0400
TZOFFSETTO:-0500
TZNAME:EST
DTSTART:20261101T060000
END:STANDARD
END:VTIMEZONE
BEGIN:VEVENT
DTSTART;TZID=America/New_York:20251022T180000
DTEND;TZID=America/New_York:20251022T200000
DTSTAMP:20260420T163343
CREATED:20250827T175617Z
LAST-MODIFIED:20251028T172923Z
UID:63503-1761156000-1761163200@mixitupkitchen.com
SUMMARY:Lynne Ahearn Private Event
DESCRIPTION:Private pasta making event for Lynne Ahearn. \n12 people\, $105 pp. \nBalance due: $1\,260. No additional meals tax or service fees. Gratuity additional. If you would like to leave a staff gratuity\, it can be given as cash\, Venmo or we can send you a secure credit card link for a specified amount any time before or after the event. \nWe look forward to hosting all of you! \n  \n  \n 
URL:https://mixitupkitchen.com/event/lynne-ahearn-private-event/
CATEGORIES:Adult Workshops
ATTACH;FMTTYPE=image/jpeg:https://mixitupkitchen.com/wp-content/uploads/2025/08/Adult-Cooking-Large.jpg
END:VEVENT
END:VCALENDAR