BEGIN:VCALENDAR
VERSION:2.0
PRODID:-//Mix It Up Kitchen - ECPv6.15.20//NONSGML v1.0//EN
CALSCALE:GREGORIAN
METHOD:PUBLISH
X-WR-CALNAME:Mix It Up Kitchen
X-ORIGINAL-URL:https://mixitupkitchen.com
X-WR-CALDESC:Events for Mix It Up Kitchen
REFRESH-INTERVAL;VALUE=DURATION:PT1H
X-Robots-Tag:noindex
X-PUBLISHED-TTL:PT1H
BEGIN:VTIMEZONE
TZID:America/New_York
BEGIN:DAYLIGHT
TZOFFSETFROM:-0500
TZOFFSETTO:-0400
TZNAME:EDT
DTSTART:20190310T070000
END:DAYLIGHT
BEGIN:STANDARD
TZOFFSETFROM:-0400
TZOFFSETTO:-0500
TZNAME:EST
DTSTART:20191103T060000
END:STANDARD
BEGIN:DAYLIGHT
TZOFFSETFROM:-0500
TZOFFSETTO:-0400
TZNAME:EDT
DTSTART:20200308T070000
END:DAYLIGHT
BEGIN:STANDARD
TZOFFSETFROM:-0400
TZOFFSETTO:-0500
TZNAME:EST
DTSTART:20201101T060000
END:STANDARD
BEGIN:DAYLIGHT
TZOFFSETFROM:-0500
TZOFFSETTO:-0400
TZNAME:EDT
DTSTART:20210314T070000
END:DAYLIGHT
BEGIN:STANDARD
TZOFFSETFROM:-0400
TZOFFSETTO:-0500
TZNAME:EST
DTSTART:20211107T060000
END:STANDARD
END:VTIMEZONE
BEGIN:VEVENT
DTSTART;TZID=America/New_York:20200619T150000
DTEND;TZID=America/New_York:20200619T170000
DTSTAMP:20260420T140344
CREATED:20200602T174713Z
LAST-MODIFIED:20200616T001510Z
UID:34826-1592578800-1592586000@mixitupkitchen.com
SUMMARY:Endless Summer Cake Wars I Zoom | Ages 8-15
DESCRIPTION:Kick-off the summer at our Endless Summer Cake Wars Zoom competition!  Registration includes all dry ingredients\, disposable cake pan\, cake board and decorations.  We’ll Zoom in at 3:00 PM for the rules and bake-off. Teams will return at 4:15 PM to decorate\, followed by judging. \nEach team (siblings welcome) will make\, bake and decorate a 6 inch summer themed cake. You’ll receive fondant\, frosting\, white chocolate seashells and an assortment of other embellishments to decorate with. You’ll need a hand mixer\, 2 sticks of unsalted butter at room temperature\, 1/3 of a cup of milk and 1 egg. \nKits can be picked up on Thursday 6/18 between 4:00-5:00 PM or Friday 6/19 between 10:00-11:00 AM.  Winners will be posted on our Facebook page.  Please inform us of any food allergies prior to registering. Participation limited. Kits are non-refundable. \n  \nPlease register by Tuesday\, June 16th so we can assemble kits. \n  \nDate: Friday\, June 19th \nTime: 3:00-5:00 PM \nCost: $35 \n  \n 
URL:https://mixitupkitchen.com/event/endless-summer-cake-wars-8-15/
LOCATION:19 Depot Street\, Duxbury\, MA\, 02332\, United States
CATEGORIES:Camp Day,Kids & Teens
ATTACH;FMTTYPE=image/jpeg:https://mixitupkitchen.com/wp-content/uploads/2020/06/beachcake.jpg
END:VEVENT
END:VCALENDAR