BEGIN:VCALENDAR
VERSION:2.0
PRODID:-//Mix It Up Kitchen - ECPv6.15.20//NONSGML v1.0//EN
CALSCALE:GREGORIAN
METHOD:PUBLISH
X-WR-CALNAME:Mix It Up Kitchen
X-ORIGINAL-URL:https://mixitupkitchen.com
X-WR-CALDESC:Events for Mix It Up Kitchen
REFRESH-INTERVAL;VALUE=DURATION:PT1H
X-Robots-Tag:noindex
X-PUBLISHED-TTL:PT1H
BEGIN:VTIMEZONE
TZID:America/New_York
BEGIN:DAYLIGHT
TZOFFSETFROM:-0500
TZOFFSETTO:-0400
TZNAME:EDT
DTSTART:20150308T070000
END:DAYLIGHT
BEGIN:STANDARD
TZOFFSETFROM:-0400
TZOFFSETTO:-0500
TZNAME:EST
DTSTART:20151101T060000
END:STANDARD
BEGIN:DAYLIGHT
TZOFFSETFROM:-0500
TZOFFSETTO:-0400
TZNAME:EDT
DTSTART:20160313T070000
END:DAYLIGHT
BEGIN:STANDARD
TZOFFSETFROM:-0400
TZOFFSETTO:-0500
TZNAME:EST
DTSTART:20161106T060000
END:STANDARD
BEGIN:DAYLIGHT
TZOFFSETFROM:-0500
TZOFFSETTO:-0400
TZNAME:EDT
DTSTART:20170312T070000
END:DAYLIGHT
BEGIN:STANDARD
TZOFFSETFROM:-0400
TZOFFSETTO:-0500
TZNAME:EST
DTSTART:20171105T060000
END:STANDARD
END:VTIMEZONE
BEGIN:VEVENT
DTSTART;TZID=America/New_York:20160612T153000
DTEND;TZID=America/New_York:20160612T170000
DTSTAMP:20260424T014559
CREATED:20160511T133930Z
LAST-MODIFIED:20160511T133930Z
UID:17861-1465745400-1465750800@mixitupkitchen.com
SUMMARY:Eating with the Seasons I Family Event
DESCRIPTION:Join guest speaker\, Pamela Denholm as she shares the benefits of seasonal eating- from budgets to menus and everything in between. Pam has an unparalleled understanding of local agriculture and will tell you how to shop farmers markets\, and what crops will be generous to you in your garden. Whether you are an adventurous foodie\, or a new cook who just wants to eat better\, you’ll feel inspired and will sample some seasonal dishes and recipes to take home! \nSunday\, 3:30-5:00 PM \nCost: $25 \nProceeds from this event will go towards our garden project.
URL:https://mixitupkitchen.com/event/eating-seasons-family-event/
LOCATION:19 Depot Street\, Duxbury\, MA\, 02332\, United States
CATEGORIES:Adult Workshops,Family,Special Event
END:VEVENT
END:VCALENDAR