BEGIN:VCALENDAR
VERSION:2.0
PRODID:-//Mix It Up Kitchen - ECPv6.15.20//NONSGML v1.0//EN
CALSCALE:GREGORIAN
METHOD:PUBLISH
X-WR-CALNAME:Mix It Up Kitchen
X-ORIGINAL-URL:https://mixitupkitchen.com
X-WR-CALDESC:Events for Mix It Up Kitchen
REFRESH-INTERVAL;VALUE=DURATION:PT1H
X-Robots-Tag:noindex
X-PUBLISHED-TTL:PT1H
BEGIN:VTIMEZONE
TZID:America/New_York
BEGIN:DAYLIGHT
TZOFFSETFROM:-0500
TZOFFSETTO:-0400
TZNAME:EDT
DTSTART:20180311T070000
END:DAYLIGHT
BEGIN:STANDARD
TZOFFSETFROM:-0400
TZOFFSETTO:-0500
TZNAME:EST
DTSTART:20181104T060000
END:STANDARD
BEGIN:DAYLIGHT
TZOFFSETFROM:-0500
TZOFFSETTO:-0400
TZNAME:EDT
DTSTART:20190310T070000
END:DAYLIGHT
BEGIN:STANDARD
TZOFFSETFROM:-0400
TZOFFSETTO:-0500
TZNAME:EST
DTSTART:20191103T060000
END:STANDARD
BEGIN:DAYLIGHT
TZOFFSETFROM:-0500
TZOFFSETTO:-0400
TZNAME:EDT
DTSTART:20200308T070000
END:DAYLIGHT
BEGIN:STANDARD
TZOFFSETFROM:-0400
TZOFFSETTO:-0500
TZNAME:EST
DTSTART:20201101T060000
END:STANDARD
END:VTIMEZONE
BEGIN:VEVENT
DTSTART;TZID=America/New_York:20190208T190000
DTEND;TZID=America/New_York:20190208T210000
DTSTAMP:20260419T181916
CREATED:20190104T221558Z
LAST-MODIFIED:20190104T221558Z
UID:26417-1549652400-1549659600@mixitupkitchen.com
SUMMARY:Couples Italian Cooking | Adult Workshop
DESCRIPTION:Enjoy a delicious date night with your partner- and avoid the Valentine’s Day rush.  In this hands-on workshop\, our chef will walk you through the technique to create a wonderful Italian-inspired meal.  You’ll make a winter spiced risotto with squash\, sage and pancetta\, grilled radicchio salad with pears and balsamic and for dessert\, lemon mascarpone tarts with a raspberry champagne sauce.  Our classes focus on learning professional culinary techniques while making a variety of dishes to enjoy at the kitchen.  Recipes will be available to take home.  BYOB welcome. \n  \nDate: Friday\, February 8th \n\nTime: 7:00-9:00 PM \nCost: $130 per couple ($65 pp\, One registration= 2 people) \n\nThings to know: \nMenu items may change slightly based on what’s fresh and available.  Please inform us of any food allergies before registering.  We reserve the right to cancel a class due to low enrollment and a full refund will be provided.  In the unlikely event that we need to cancel\, we will notify you at least 48 hours before the event. If you need to cancel\, we can provide a credit for another class if you give us at least 7 days notice prior to class date.  After that time\, we cannot issue a credit\, however you’re welcome to send someone in your place.
URL:https://mixitupkitchen.com/event/couplesitalian/
LOCATION:19 Depot Street\, Duxbury\, MA\, 02332\, United States
CATEGORIES:Adult Workshops
END:VEVENT
END:VCALENDAR